BEGIN:VCALENDAR
VERSION:2.0
PRODID:-//jEvents 2.0 for Joomla//EN
CALSCALE:GREGORIAN
METHOD:PUBLISH
BEGIN:VEVENT
UID:1d33380ca559a073a0119c0b19b49175
CATEGORIES:Kulturevent
CREATED:20241028T201756
SUMMARY: Jahresschlusskonzert am 29. Dezember 2024 
LOCATION:Kirchengemeinde St. Nikolai Burg\, Breite Straße 47\, 23769 Fehmarn
DESCRIPTION:Fehmarns Kirchengemeinden lassen das Jahr musikalisch ausklingen. \nEin gro
 ßer Zusammenklang entsteht, wenn der gemischte Chor Landkirchen, die Burger
  Kantorei, der Gospelchor "Fire &amp; Soul", die Bläser der Insel und der F
 lötist Stephan von Brandis aufeinander treffen und unter der Leitung von Ka
 thrin Kark und Henning Rasch miteinander musizieren. \nZum Genießen und Mit
 singen lädt die Kirchengemeinde Burg herzlich ein. \nDer Eintritt ist frei;
  um Spenden wird gebeten.\nSonntag, 29. Dezember 2024, 18:00 Uhr\nKirchenge
 meinde St. Nikolai\nBurg, Breite Straße 47, 23769 Fehmarn\n
X-ALT-DESC;FMTTYPE=text/html:<p><strong>Fehmarns Kirchengemeinden lassen das Jahr musikalisch ausklingen
 .</strong> <br />Ein großer Zusammenklang entsteht, wenn der gemischte Chor
  Landkirchen, die Burger Kantorei, der Gospelchor "Fire &amp; Soul", die Bl
 äser der Insel und der Flötist Stephan von Brandis aufeinander treffen und 
 unter der Leitung von Kathrin Kark und Henning Rasch miteinander musizieren
 . <br />Zum Genießen und Mitsingen lädt die Kirchengemeinde Burg herzlich e
 in. <br />Der Eintritt ist frei; um Spenden wird gebeten.</p><p><span class
 ="cd-detail-item-text">Sonntag, 29. Dezember 2024, 18:00 Uhr</span></p><p><
 span class="cd-detail-item-text">Kirchengemeinde St. Nikolai<br />Burg, Bre
 ite Straße 47, 23769 Fehmarn</span></p>
CONTACT:kirche-fehmarn.de
DTSTAMP:20260421T102109
DTSTART:20241229T170000
SEQUENCE:0
TRANSP:OPAQUE
END:VEVENT
END:VCALENDAR